BEGIN:VCALENDAR
VERSION:2.0
PRODID:-//ChamberMaster//Event Calendar 2.0//EN
METHOD:PUBLISH
X-PUBLISHED-TTL:P1H
REFRESH-INTERVAL:P1H
CALSCALE:GREGORIAN
BEGIN:VTIMEZONE
TZID:America/Los_Angeles
BEGIN:DAYLIGHT
RRULE:FREQ=YEARLY;BYMONTH=3;BYDAY=2SU
DTSTART:20070101T000000
TZOFFSETFROM:-0800
TZOFFSETTO:-0700
TZNAME:Pacific Daylight Time
END:DAYLIGHT
BEGIN:STANDARD
RRULE:FREQ=YEARLY;BYMONTH=11;BYDAY=1SU
DTSTART:20070101T000000
TZOFFSETFROM:-0700
TZOFFSETTO:-0800
TZNAME:Pacific Standard Time
END:STANDARD
END:VTIMEZONE
BEGIN:VEVENT
DTSTART;TZID=America/Los_Angeles:20260417T180000
DTEND;TZID=America/Los_Angeles:20260417T220000
X-MICROSOFT-CDO-ALLDAYEVENT:FALSE
SUMMARY:Sequoia Union Benefit Dinner
DESCRIPTION:Join Sequoia Union Elementary Agricultural Foundation for an unforgettable evening supporting agricultural education. \n\nThe Benefit Dinner will take place at the beautiful Seven Sycamores Ranch on: \n📅 Friday\, April 17\, 2026 \n⏰ 6 10 PM \n\nEnjoy a chef-curated dinner by Monet's\, custom cocktails\, live music\, a student program showcase\, and a curated auction. All proceeds support the growth of agricultural education at Sequoia Union. \n\nTickets available now!
X-ALT-DESC;FMTTYPE=text/html:<!DOCTYPE html><html><head><title></title></head><body aria-disabled="false"><p>Join Sequoia Union Elementary Agricultural Foundation for an unforgettable evening supporting agricultural education. <br><br>The Benefit Dinner will take place at the beautiful Seven Sycamores Ranch on: <br>📅 Friday\, April 17\, 2026 <br>⏰ 6&ndash\;10 PM <br><br>Enjoy a chef-curated dinner by Monet&rsquo\;s\, custom cocktails\, live music\, a student program showcase\, and a curated auction. All proceeds support the growth of agricultural education at Sequoia Union. <br><br><a fr-original-style="" href="https://docs.google.com/forms/d/e/1FAIpQLSfRXBvP5hwsYGEUZI9_Z6r-yozemEzafFlAeu8ZDM0jy6dNkA/viewform?pli=1" style="user-select: auto\;">Tickets available now!</a></p></body></html>
LOCATION:32988 Road 164 Ivanhoe
UID:e.4133.1429009
SEQUENCE:3
DTSTAMP:20260419T142256Z
URL:https://business.exeterchamber.com/community-calendar/Details/sequoia-union-benefit-dinner-1690451?sourceTypeId=Hub
END:VEVENT
END:VCALENDAR
