BEGIN:VCALENDAR
VERSION:2.0
PRODID:-//ChamberMaster//Event Calendar 2.0//EN
METHOD:PUBLISH
X-PUBLISHED-TTL:P1H
REFRESH-INTERVAL:P1H
CALSCALE:GREGORIAN
BEGIN:VTIMEZONE
TZID:America/Los_Angeles
BEGIN:DAYLIGHT
RRULE:FREQ=YEARLY;BYMONTH=3;BYDAY=2SU
DTSTART:20070101T000000
TZOFFSETFROM:-0800
TZOFFSETTO:-0700
TZNAME:Pacific Daylight Time
END:DAYLIGHT
BEGIN:STANDARD
RRULE:FREQ=YEARLY;BYMONTH=11;BYDAY=1SU
DTSTART:20070101T000000
TZOFFSETFROM:-0700
TZOFFSETTO:-0800
TZNAME:Pacific Standard Time
END:STANDARD
END:VTIMEZONE
BEGIN:VEVENT
DTSTART;TZID=America/Los_Angeles:20260609T113000
DTEND;TZID=America/Los_Angeles:20260609T133000
X-MICROSOFT-CDO-ALLDAYEVENT:FALSE
SUMMARY:Exeter Woman's Club General Lunch Meeting
DESCRIPTION:
X-ALT-DESC;FMTTYPE=text/html:
LOCATION:201 N. Kaweah Ave. Exeter 93221
UID:e.4133.1421625
SEQUENCE:3
DTSTAMP:20260419T142428Z
URL:https://business.exeterchamber.com/community-calendar/Details/exeter-woman-s-club-general-lunch-meeting-1680953?sourceTypeId=Hub
END:VEVENT
END:VCALENDAR
