BEGIN:VCALENDAR
VERSION:2.0
PRODID:-//ChamberMaster//Event Calendar 2.0//EN
METHOD:PUBLISH
X-PUBLISHED-TTL:P1H
REFRESH-INTERVAL:P1H
CALSCALE:GREGORIAN
BEGIN:VTIMEZONE
TZID:America/Los_Angeles
BEGIN:DAYLIGHT
RRULE:FREQ=YEARLY;BYMONTH=3;BYDAY=2SU
DTSTART:20070101T000000
TZOFFSETFROM:-0800
TZOFFSETTO:-0700
TZNAME:Pacific Daylight Time
END:DAYLIGHT
BEGIN:STANDARD
RRULE:FREQ=YEARLY;BYMONTH=11;BYDAY=1SU
DTSTART:20070101T000000
TZOFFSETFROM:-0700
TZOFFSETTO:-0800
TZNAME:Pacific Standard Time
END:STANDARD
END:VTIMEZONE
BEGIN:VEVENT
DTSTART;TZID=America/Los_Angeles:20260523T130000
DTEND;TZID=America/Los_Angeles:20260523T200000
X-MICROSOFT-CDO-ALLDAYEVENT:FALSE
SUMMARY:Cornhole Team Tournament
DESCRIPTION:The Exeter Outdoors Association is bringing a full day of games\, cornhole\, raffles\, and great food to the Exeter Memorial Building on May 23. Grab a partner\, sign up a team\, or just come out and enjoy the day. \n🕐 1PM 8PM \n🎯 Cornhole teams + individual entry available Fun for all ages   don't miss it.
X-ALT-DESC;FMTTYPE=text/html:<!DOCTYPE html><html><head><title></title></head><body aria-disabled="false"><p>The Exeter Outdoors Association is bringing a full day of games\, cornhole\, raffles\, and great food to the Exeter Memorial Building on May 23.&nbsp\;</p><p>Grab a partner\, sign up a team\, or just come out and enjoy the day.</p><p>&nbsp\;<br>🕐 1PM&ndash\;8PM <br>🎯 Cornhole teams + individual entry available Fun for all ages &mdash\; don&rsquo\;t miss it.</p></body></html>
LOCATION:324 N Kaweah Ave EXETER 93221
UID:e.4133.1429026
SEQUENCE:3
DTSTAMP:20260419T142256Z
URL:https://business.exeterchamber.com/community-calendar/Details/cornhole-team-tournament-1690468?sourceTypeId=Hub
END:VEVENT
END:VCALENDAR
