BEGIN:VCALENDAR
VERSION:2.0
PRODID:-//ChamberMaster//Event Calendar 2.0//EN
METHOD:PUBLISH
X-PUBLISHED-TTL:P1H
REFRESH-INTERVAL:P1H
CALSCALE:GREGORIAN
BEGIN:VTIMEZONE
TZID:America/Los_Angeles
BEGIN:DAYLIGHT
RRULE:FREQ=YEARLY;BYMONTH=3;BYDAY=2SU
DTSTART:20070101T000000
TZOFFSETFROM:-0800
TZOFFSETTO:-0700
TZNAME:Pacific Daylight Time
END:DAYLIGHT
BEGIN:STANDARD
RRULE:FREQ=YEARLY;BYMONTH=11;BYDAY=1SU
DTSTART:20070101T000000
TZOFFSETFROM:-0700
TZOFFSETTO:-0800
TZNAME:Pacific Standard Time
END:STANDARD
END:VTIMEZONE
BEGIN:VEVENT
DTSTART;TZID=America/Los_Angeles:20260404T163000
DTEND;TZID=America/Los_Angeles:20260404T183000
X-MICROSOFT-CDO-ALLDAYEVENT:FALSE
SUMMARY:"California Landscapes" Artist Reception - CACHE
DESCRIPTION:Discover the beauty of California through art. \n\nCACHE presents "California Landscapes" by Betty Berk\, on display April 4   June 28\, 2026. Join us for the Artist's Reception on \n📅 Saturday\, April 4th\n⏰ 4:30 6:30 PM \n📍 125 S. B Street\, Exeter Experience vibrant landscapes\, meet the artist\, and enjoy an evening celebrating art and culture in our community.
X-ALT-DESC;FMTTYPE=text/html:<!DOCTYPE html><html><head><title></title></head><body aria-disabled="false"><p>Discover the beauty of California through art. <br><br>CACHE presents &ldquo\;California Landscapes&rdquo\; by Betty Berk\, on display April 4 &ndash\; June 28\, 2026.&nbsp\;</p><p>Join us for the Artist&rsquo\;s Reception on <br>📅 Saturday\, April 4th<br>⏰ 4:30&ndash\;6:30 PM <br>📍 125 S. B Street\, Exeter&nbsp\;</p><p>Experience vibrant landscapes\, meet the artist\, and enjoy an evening celebrating art and culture in our community.</p></body></html>
LOCATION:125 S. B St EXETER 93221
UID:e.4133.1428998
SEQUENCE:3
DTSTAMP:20260419T143436Z
URL:https://business.exeterchamber.com/community-calendar/Details/california-landscapes-artist-reception-cache-1690432?sourceTypeId=Hub
END:VEVENT
END:VCALENDAR
