BEGIN:VCALENDAR
VERSION:2.0
PRODID:-//ChamberMaster//Event Calendar 2.0//EN
METHOD:PUBLISH
X-PUBLISHED-TTL:P1H
REFRESH-INTERVAL:P1H
CALSCALE:GREGORIAN
BEGIN:VTIMEZONE
TZID:America/Los_Angeles
BEGIN:DAYLIGHT
RRULE:FREQ=YEARLY;BYMONTH=3;BYDAY=2SU
DTSTART:20070101T000000
TZOFFSETFROM:-0800
TZOFFSETTO:-0700
TZNAME:Pacific Daylight Time
END:DAYLIGHT
BEGIN:STANDARD
RRULE:FREQ=YEARLY;BYMONTH=11;BYDAY=1SU
DTSTART:20070101T000000
TZOFFSETFROM:-0700
TZOFFSETTO:-0800
TZNAME:Pacific Standard Time
END:STANDARD
END:VTIMEZONE
BEGIN:VEVENT
DTSTART;TZID=America/Los_Angeles:20260409T173000
DTEND;TZID=America/Los_Angeles:20260409T200000
X-MICROSOFT-CDO-ALLDAYEVENT:FALSE
SUMMARY:Bingo Night - Exeter Woman's Club
DESCRIPTION:Join the Exeter Woman's Club for a fun evening of Bingo! 🗓 Thursday\, April 9 \n⏰ Doors open at 5:30 PM | Games start at 6:00 PM \n📍 201 Kaweah Avenue\, Exeter Enjoy bingo\, mini games\, a 50/50 raffle\, and snacks with friends and neighbors. All are welcome bring your lucky charm and join the fun!
X-ALT-DESC;FMTTYPE=text/html:<!DOCTYPE html><html><head><title></title></head><body aria-disabled="false"><p>Join the Exeter Woman&rsquo\;s Club for a fun evening of Bingo!&nbsp\;</p><p>🗓 Thursday\, April 9 <br>⏰ Doors open at 5:30 PM | Games start at 6:00 PM <br>📍 201 Kaweah Avenue\, Exeter&nbsp\;</p><p>Enjoy bingo\, mini games\, a 50/50 raffle\, and snacks with friends and neighbors. All are welcome&mdash\;bring your lucky charm and join the fun!</p></body></html>
LOCATION:201 N. Kaweah Ave EXETER 93221
UID:e.4133.1436667
SEQUENCE:3
DTSTAMP:20260419T142403Z
URL:https://business.exeterchamber.com/community-calendar/Details/bingo-night-exeter-woman-s-club-1700677?sourceTypeId=Hub
END:VEVENT
END:VCALENDAR
