BEGIN:VCALENDAR
VERSION:2.0
PRODID:-//ChamberMaster//Event Calendar 2.0//EN
METHOD:PUBLISH
X-PUBLISHED-TTL:P1H
REFRESH-INTERVAL:P1H
CALSCALE:GREGORIAN
BEGIN:VTIMEZONE
TZID:America/Los_Angeles
BEGIN:DAYLIGHT
RRULE:FREQ=YEARLY;BYMONTH=3;BYDAY=2SU
DTSTART:20070101T000000
TZOFFSETFROM:-0800
TZOFFSETTO:-0700
TZNAME:Pacific Daylight Time
END:DAYLIGHT
BEGIN:STANDARD
RRULE:FREQ=YEARLY;BYMONTH=11;BYDAY=1SU
DTSTART:20070101T000000
TZOFFSETFROM:-0700
TZOFFSETTO:-0800
TZNAME:Pacific Standard Time
END:STANDARD
END:VTIMEZONE
BEGIN:VEVENT
DTSTART;TZID=America/Los_Angeles:20260425T130046
DTEND;TZID=America/Los_Angeles:20260425T150046
X-MICROSOFT-CDO-ALLDAYEVENT:FALSE
SUMMARY:Afternoon Tea Party & Fundraiser - Exeter Woman's Club
DESCRIPTION:A fun social event featuring a variety of desserts and appetizers\, raffle prizes\, games\, a touch of etiquette and of course flowers to brighten your day.\nAward for the best tea party hat will be awarded.\nTickets available from EWC members\, Exeter City Dance and the Exeter Chamber of Commerce. \nTickets $25 - a discount will apply to any additional tickets purchased.
X-ALT-DESC;FMTTYPE=text/html:A fun social event featuring a variety of desserts and appetizers\, raffle prizes\, games\, a touch of etiquette and of course flowers to brighten your day.\nAward for the best tea party hat will be awarded.\nTickets available from EWC members\, Exeter City Dance and the Exeter Chamber of Commerce. \nTickets $25 - a discount will apply to any additional tickets purchased.
LOCATION:201 N. Kaweah Ave. Exeter 93221
UID:e.4133.1421644
SEQUENCE:3
DTSTAMP:20260419T142542Z
URL:https://business.exeterchamber.com/community-calendar/Details/afternoon-tea-party-fundraiser-exeter-woman-s-club-1680969?sourceTypeId=Hub
END:VEVENT
END:VCALENDAR
